BEGIN:VCALENDAR
PRODID:-//eluceo/ical//2.0/EN
VERSION:2.0
CALSCALE:GREGORIAN
BEGIN:VEVENT
UID:5a9f097032edef124531da241879016e
DTSTAMP:20260421T102359Z
SUMMARY:Drama
DTSTART;TZID=Europe/Prague:20260428T153000
DTEND;TZID=Europe/Prague:20260428T171600
LOCATION:Kino Světozor
END:VEVENT
END:VCALENDAR
BEGIN:VCALENDAR
PRODID:-//eluceo/ical//2.0/EN
VERSION:2.0
CALSCALE:GREGORIAN
BEGIN:VEVENT
UID:04d8cf89cccf1195494d54b74c7ce9f5
DTSTAMP:20260421T102359Z
SUMMARY:Drama
DTSTART;TZID=Europe/Prague:20260428T153000
DTEND;TZID=Europe/Prague:20260428T171600
LOCATION:Kino Světozor
END:VEVENT
END:VCALENDAR
