BEGIN:VCALENDAR
PRODID:-//eluceo/ical//2.0/EN
VERSION:2.0
CALSCALE:GREGORIAN
BEGIN:VEVENT
UID:f21b7d529fcd33fde81736b08844e289
DTSTAMP:20260421T102227Z
SUMMARY:Drama
DTSTART;TZID=Europe/Prague:20260428T201500
DTEND;TZID=Europe/Prague:20260428T220100
LOCATION:Kino Světozor
END:VEVENT
END:VCALENDAR
BEGIN:VCALENDAR
PRODID:-//eluceo/ical//2.0/EN
VERSION:2.0
CALSCALE:GREGORIAN
BEGIN:VEVENT
UID:94605ff207704acea8c05432235420be
DTSTAMP:20260421T102227Z
SUMMARY:Drama
DTSTART;TZID=Europe/Prague:20260428T201500
DTEND;TZID=Europe/Prague:20260428T220100
LOCATION:Kino Světozor
END:VEVENT
END:VCALENDAR
