BEGIN:VCALENDAR
PRODID:-//eluceo/ical//2.0/EN
VERSION:2.0
CALSCALE:GREGORIAN
BEGIN:VEVENT
UID:7219f1d7086d2a7182b5f9873e17b6b9
DTSTAMP:20260425T152721Z
SUMMARY:Slepice
DTSTART;TZID=Europe/Prague:20260426T203000
DTEND;TZID=Europe/Prague:20260426T220600
LOCATION:Kino Světozor
END:VEVENT
END:VCALENDAR
BEGIN:VCALENDAR
PRODID:-//eluceo/ical//2.0/EN
VERSION:2.0
CALSCALE:GREGORIAN
BEGIN:VEVENT
UID:33227c7980f173c186fbdec61bbabe11
DTSTAMP:20260425T152721Z
SUMMARY:Slepice
DTSTART;TZID=Europe/Prague:20260426T203000
DTEND;TZID=Europe/Prague:20260426T220600
LOCATION:Kino Světozor
END:VEVENT
END:VCALENDAR
