BEGIN:VCALENDAR
PRODID:-//eluceo/ical//2.0/EN
VERSION:2.0
CALSCALE:GREGORIAN
BEGIN:VEVENT
UID:c1223b32722c9a9d38fbc75fcf07dedf
DTSTAMP:20260423T192303Z
SUMMARY:Pan Nikdo proti Putinovi
DTSTART;TZID=Europe/Prague:20260512T150000
DTEND;TZID=Europe/Prague:20260512T163000
LOCATION:Kino Aero
END:VEVENT
END:VCALENDAR
BEGIN:VCALENDAR
PRODID:-//eluceo/ical//2.0/EN
VERSION:2.0
CALSCALE:GREGORIAN
BEGIN:VEVENT
UID:3f1678ce468545e79d610de45d9b5208
DTSTAMP:20260423T192303Z
SUMMARY:Pan Nikdo proti Putinovi
DTSTART;TZID=Europe/Prague:20260512T150000
DTEND;TZID=Europe/Prague:20260512T163000
LOCATION:Kino Aero
END:VEVENT
END:VCALENDAR
