BEGIN:VCALENDAR
PRODID:-//eluceo/ical//2.0/EN
VERSION:2.0
CALSCALE:GREGORIAN
BEGIN:VEVENT
UID:faa33a214e38f661fe68eb0aa2b38215
DTSTAMP:20260425T152619Z
SUMMARY:Slepice
DTSTART;TZID=Europe/Prague:20260515T150000
DTEND;TZID=Europe/Prague:20260515T163600
LOCATION:Kino Aero
END:VEVENT
END:VCALENDAR
BEGIN:VCALENDAR
PRODID:-//eluceo/ical//2.0/EN
VERSION:2.0
CALSCALE:GREGORIAN
BEGIN:VEVENT
UID:75a0ac191f1fd8bc6b3ae051bd8b2117
DTSTAMP:20260425T152619Z
SUMMARY:Slepice
DTSTART;TZID=Europe/Prague:20260515T150000
DTEND;TZID=Europe/Prague:20260515T163600
LOCATION:Kino Aero
END:VEVENT
END:VCALENDAR
