BEGIN:VCALENDAR
PRODID:-//eluceo/ical//2.0/EN
VERSION:2.0
CALSCALE:GREGORIAN
BEGIN:VEVENT
UID:36f88440b94486a85b62e675ea68e83c
DTSTAMP:20260421T102030Z
SUMMARY:Drama
DTSTART;TZID=Europe/Prague:20260519T150000
DTEND;TZID=Europe/Prague:20260519T164600
LOCATION:Kino Aero
END:VEVENT
END:VCALENDAR
BEGIN:VCALENDAR
PRODID:-//eluceo/ical//2.0/EN
VERSION:2.0
CALSCALE:GREGORIAN
BEGIN:VEVENT
UID:14a11bc149daadf019c0dfa3101c0816
DTSTAMP:20260421T102030Z
SUMMARY:Drama
DTSTART;TZID=Europe/Prague:20260519T150000
DTEND;TZID=Europe/Prague:20260519T164600
LOCATION:Kino Aero
END:VEVENT
END:VCALENDAR
