BEGIN:VCALENDAR
PRODID:-//eluceo/ical//2.0/EN
VERSION:2.0
CALSCALE:GREGORIAN
BEGIN:VEVENT
UID:648a6e4865ec87a24a29e8d4bfff32d9
DTSTAMP:20260425T152827Z
SUMMARY:Šepot lesa
DTSTART;TZID=Europe/Prague:20260521T133000
DTEND;TZID=Europe/Prague:20260521T150500
LOCATION:Kino Aero
END:VEVENT
END:VCALENDAR
BEGIN:VCALENDAR
PRODID:-//eluceo/ical//2.0/EN
VERSION:2.0
CALSCALE:GREGORIAN
BEGIN:VEVENT
UID:ab068c3788548c700a137b6937cd6b17
DTSTAMP:20260425T152827Z
SUMMARY:Šepot lesa
DTSTART;TZID=Europe/Prague:20260521T133000
DTEND;TZID=Europe/Prague:20260521T150500
LOCATION:Kino Aero
END:VEVENT
END:VCALENDAR
