BEGIN:VCALENDAR
PRODID:-//eluceo/ical//2.0/EN
VERSION:2.0
CALSCALE:GREGORIAN
BEGIN:VEVENT
UID:a15fbc8a34016c4d51d759389b368546
DTSTAMP:20260422T035506Z
SUMMARY:Pád
DTSTART;TZID=Europe/Prague:20260428T100000
DTEND;TZID=Europe/Prague:20260428T115200
LOCATION:Bio Oko
END:VEVENT
END:VCALENDAR
BEGIN:VCALENDAR
PRODID:-//eluceo/ical//2.0/EN
VERSION:2.0
CALSCALE:GREGORIAN
BEGIN:VEVENT
UID:15b4bde8beb2b340139424e44f42368d
DTSTAMP:20260422T035506Z
SUMMARY:Pád
DTSTART;TZID=Europe/Prague:20260428T100000
DTEND;TZID=Europe/Prague:20260428T115200
LOCATION:Bio Oko
END:VEVENT
END:VCALENDAR
