BEGIN:VCALENDAR
PRODID:-//eluceo/ical//2.0/EN
VERSION:2.0
CALSCALE:GREGORIAN
BEGIN:VEVENT
UID:3a987fb21108867f4456c72851f2213d
DTSTAMP:20260425T154558Z
SUMMARY:Kill Bill: The Whole Bloody Affair
DTSTART;TZID=Europe/Prague:20260614T170000
DTEND;TZID=Europe/Prague:20260614T213500
LOCATION:Kino Přítomnost
END:VEVENT
END:VCALENDAR
BEGIN:VCALENDAR
PRODID:-//eluceo/ical//2.0/EN
VERSION:2.0
CALSCALE:GREGORIAN
BEGIN:VEVENT
UID:e7ebef527eb6bde8e5ac8d1eadd7143f
DTSTAMP:20260425T154558Z
SUMMARY:Kill Bill: The Whole Bloody Affair
DTSTART;TZID=Europe/Prague:20260614T170000
DTEND;TZID=Europe/Prague:20260614T213500
LOCATION:Kino Přítomnost
END:VEVENT
END:VCALENDAR
