BEGIN:VCALENDAR
PRODID:-//eluceo/ical//2.0/EN
VERSION:2.0
CALSCALE:GREGORIAN
BEGIN:VEVENT
UID:b96b8e7d32bfd077e48c79808a05190b
DTSTAMP:20260425T152705Z
SUMMARY:Věříme vám
DTSTART;TZID=Europe/Prague:20260513T150000
DTEND;TZID=Europe/Prague:20260513T161800
LOCATION:Kino Lucerna
END:VEVENT
END:VCALENDAR
BEGIN:VCALENDAR
PRODID:-//eluceo/ical//2.0/EN
VERSION:2.0
CALSCALE:GREGORIAN
BEGIN:VEVENT
UID:4d090aa88d4cb5cc763b668251db999e
DTSTAMP:20260425T152705Z
SUMMARY:Věříme vám
DTSTART;TZID=Europe/Prague:20260513T150000
DTEND;TZID=Europe/Prague:20260513T161800
LOCATION:Kino Lucerna
END:VEVENT
END:VCALENDAR
