BEGIN:VCALENDAR
PRODID:-//eluceo/ical//2.0/EN
VERSION:2.0
CALSCALE:GREGORIAN
BEGIN:VEVENT
UID:21f05edad011efd83448df4fbac08108
DTSTAMP:20260425T193046Z
SUMMARY:Ďábel nosí Pradu 2
DTSTART;TZID=Europe/Prague:20260506T100000
DTEND;TZID=Europe/Prague:20260506T120000
LOCATION:Bio Central
END:VEVENT
END:VCALENDAR
BEGIN:VCALENDAR
PRODID:-//eluceo/ical//2.0/EN
VERSION:2.0
CALSCALE:GREGORIAN
BEGIN:VEVENT
UID:a51cc127e6c16ca87960bf68f4b44bc1
DTSTAMP:20260425T193046Z
SUMMARY:Ďábel nosí Pradu 2
DTSTART;TZID=Europe/Prague:20260506T100000
DTEND;TZID=Europe/Prague:20260506T120000
LOCATION:Bio Central
END:VEVENT
END:VCALENDAR
