BEGIN:VCALENDAR
PRODID:-//eluceo/ical//2.0/EN
VERSION:2.0
CALSCALE:GREGORIAN
BEGIN:VEVENT
UID:b4f9bb4ea26bbea52aa635dfac8f60ac
DTSTAMP:20260425T193229Z
SUMMARY:Ďábel nosí Pradu 2
DTSTART;TZID=Europe/Prague:20260502T173000
DTEND;TZID=Europe/Prague:20260502T193000
LOCATION:Kino Lucerna
END:VEVENT
END:VCALENDAR
BEGIN:VCALENDAR
PRODID:-//eluceo/ical//2.0/EN
VERSION:2.0
CALSCALE:GREGORIAN
BEGIN:VEVENT
UID:86458897b518c477c3c9e2b1d3345ed4
DTSTAMP:20260425T193229Z
SUMMARY:Ďábel nosí Pradu 2
DTSTART;TZID=Europe/Prague:20260502T173000
DTEND;TZID=Europe/Prague:20260502T193000
LOCATION:Kino Lucerna
END:VEVENT
END:VCALENDAR
