BEGIN:VCALENDAR
PRODID:-//eluceo/ical//2.0/EN
VERSION:2.0
CALSCALE:GREGORIAN
BEGIN:VEVENT
UID:296980e07d64bc68f18c0d9374d94ab9
DTSTAMP:20260425T193046Z
SUMMARY:Ďábel nosí Pradu 2
DTSTART;TZID=Europe/Prague:20260503T150000
DTEND;TZID=Europe/Prague:20260503T170000
LOCATION:Kino Lucerna
END:VEVENT
END:VCALENDAR
BEGIN:VCALENDAR
PRODID:-//eluceo/ical//2.0/EN
VERSION:2.0
CALSCALE:GREGORIAN
BEGIN:VEVENT
UID:4359231aba0a94b33cf612a55906b78d
DTSTAMP:20260425T193046Z
SUMMARY:Ďábel nosí Pradu 2
DTSTART;TZID=Europe/Prague:20260503T150000
DTEND;TZID=Europe/Prague:20260503T170000
LOCATION:Kino Lucerna
END:VEVENT
END:VCALENDAR
