BEGIN:VCALENDAR
PRODID:-//eluceo/ical//2.0/EN
VERSION:2.0
CALSCALE:GREGORIAN
BEGIN:VEVENT
UID:de97fa360aa9e6efc4583c0295bbfbae
DTSTAMP:20260425T193133Z
SUMMARY:Ďábel nosí Pradu 2
DTSTART;TZID=Europe/Prague:20260503T203000
DTEND;TZID=Europe/Prague:20260503T223000
LOCATION:Kino Lucerna
END:VEVENT
END:VCALENDAR
BEGIN:VCALENDAR
PRODID:-//eluceo/ical//2.0/EN
VERSION:2.0
CALSCALE:GREGORIAN
BEGIN:VEVENT
UID:35191e3a262d07ff15265f2fbceab627
DTSTAMP:20260425T193133Z
SUMMARY:Ďábel nosí Pradu 2
DTSTART;TZID=Europe/Prague:20260503T203000
DTEND;TZID=Europe/Prague:20260503T223000
LOCATION:Kino Lucerna
END:VEVENT
END:VCALENDAR
