BEGIN:VCALENDAR
PRODID:-//eluceo/ical//2.0/EN
VERSION:2.0
CALSCALE:GREGORIAN
BEGIN:VEVENT
UID:39bcf3e124fd4b6204bcfd00209ac3fe
DTSTAMP:20260425T193438Z
SUMMARY:Co nám zbylo z lásky
DTSTART;TZID=Europe/Prague:20260513T180000
DTEND;TZID=Europe/Prague:20260513T194900
LOCATION:Bio Oko
END:VEVENT
END:VCALENDAR
BEGIN:VCALENDAR
PRODID:-//eluceo/ical//2.0/EN
VERSION:2.0
CALSCALE:GREGORIAN
BEGIN:VEVENT
UID:26d96ba661cc554f06b9e73c89a5411a
DTSTAMP:20260425T193438Z
SUMMARY:Co nám zbylo z lásky
DTSTART;TZID=Europe/Prague:20260513T180000
DTEND;TZID=Europe/Prague:20260513T194900
LOCATION:Bio Oko
END:VEVENT
END:VCALENDAR
