BEGIN:VCALENDAR
PRODID:-//eluceo/ical//2.0/EN
VERSION:2.0
CALSCALE:GREGORIAN
BEGIN:VEVENT
UID:01b827435c14ac890b82c61d8e322f43
DTSTAMP:20260421T102702Z
SUMMARY:Drama
DTSTART;TZID=Europe/Prague:20260427T203000
DTEND;TZID=Europe/Prague:20260427T221600
LOCATION:Bio Central
END:VEVENT
END:VCALENDAR
BEGIN:VCALENDAR
PRODID:-//eluceo/ical//2.0/EN
VERSION:2.0
CALSCALE:GREGORIAN
BEGIN:VEVENT
UID:223581cfa14cc150e88b845095f94182
DTSTAMP:20260421T102702Z
SUMMARY:Drama
DTSTART;TZID=Europe/Prague:20260427T203000
DTEND;TZID=Europe/Prague:20260427T221600
LOCATION:Bio Central
END:VEVENT
END:VCALENDAR
