BEGIN:VCALENDAR
PRODID:-//eluceo/ical//2.0/EN
VERSION:2.0
CALSCALE:GREGORIAN
BEGIN:VEVENT
UID:afc5e908c8035d6bc9965a66dea2f797
DTSTAMP:20260425T153133Z
SUMMARY:Slepice
DTSTART;TZID=Europe/Prague:20260426T180000
DTEND;TZID=Europe/Prague:20260426T193600
LOCATION:Bio Central
END:VEVENT
END:VCALENDAR
BEGIN:VCALENDAR
PRODID:-//eluceo/ical//2.0/EN
VERSION:2.0
CALSCALE:GREGORIAN
BEGIN:VEVENT
UID:b615bc76d64ac83c32a9154702fb819a
DTSTAMP:20260425T153133Z
SUMMARY:Slepice
DTSTART;TZID=Europe/Prague:20260426T180000
DTEND;TZID=Europe/Prague:20260426T193600
LOCATION:Bio Central
END:VEVENT
END:VCALENDAR
