BEGIN:VCALENDAR
PRODID:-//eluceo/ical//2.0/EN
VERSION:2.0
CALSCALE:GREGORIAN
BEGIN:VEVENT
UID:63d59b9bd478062edfe514b58aea2310
DTSTAMP:20260421T102805Z
SUMMARY:Drama
DTSTART;TZID=Europe/Prague:20260426T173000
DTEND;TZID=Europe/Prague:20260426T191600
LOCATION:Bio Central
END:VEVENT
END:VCALENDAR
BEGIN:VCALENDAR
PRODID:-//eluceo/ical//2.0/EN
VERSION:2.0
CALSCALE:GREGORIAN
BEGIN:VEVENT
UID:c71d1263992fc9dee31aba70472e5841
DTSTAMP:20260421T102805Z
SUMMARY:Drama
DTSTART;TZID=Europe/Prague:20260426T173000
DTEND;TZID=Europe/Prague:20260426T191600
LOCATION:Bio Central
END:VEVENT
END:VCALENDAR
