BEGIN:VCALENDAR
PRODID:-//eluceo/ical//2.0/EN
VERSION:2.0
CALSCALE:GREGORIAN
BEGIN:VEVENT
UID:308d064d7bf5d3bf14f42a913157a3f2
DTSTAMP:20260421T102532Z
SUMMARY:Drama
DTSTART;TZID=Europe/Prague:20260501T181500
DTEND;TZID=Europe/Prague:20260501T200100
LOCATION:Bio Oko
END:VEVENT
END:VCALENDAR
BEGIN:VCALENDAR
PRODID:-//eluceo/ical//2.0/EN
VERSION:2.0
CALSCALE:GREGORIAN
BEGIN:VEVENT
UID:8781eba5fe712972fb78029640a25d8a
DTSTAMP:20260421T102532Z
SUMMARY:Drama
DTSTART;TZID=Europe/Prague:20260501T181500
DTEND;TZID=Europe/Prague:20260501T200100
LOCATION:Bio Oko
END:VEVENT
END:VCALENDAR
