BEGIN:VCALENDAR
PRODID:-//eluceo/ical//2.0/EN
VERSION:2.0
CALSCALE:GREGORIAN
BEGIN:VEVENT
UID:f10a1e1452eeb39b99a72de5c621faae
DTSTAMP:20260423T191546Z
SUMMARY:Citová hodnota
DTSTART;TZID=Europe/Prague:20260430T171500
DTEND;TZID=Europe/Prague:20260430T193000
LOCATION:Kino Přítomnost
END:VEVENT
END:VCALENDAR
BEGIN:VCALENDAR
PRODID:-//eluceo/ical//2.0/EN
VERSION:2.0
CALSCALE:GREGORIAN
BEGIN:VEVENT
UID:8d2753b805a00c8380f0e05e8638fa4e
DTSTAMP:20260423T191546Z
SUMMARY:Citová hodnota
DTSTART;TZID=Europe/Prague:20260430T171500
DTEND;TZID=Europe/Prague:20260430T193000
LOCATION:Kino Přítomnost
END:VEVENT
END:VCALENDAR
