BEGIN:VCALENDAR
PRODID:-//eluceo/ical//2.0/EN
VERSION:2.0
CALSCALE:GREGORIAN
BEGIN:VEVENT
UID:1eaa4ae0d46790479cacfbc59dc8b26e
DTSTAMP:20260425T193019Z
SUMMARY:Ďábel nosí Pradu 2
DTSTART;TZID=Europe/Prague:20260502T203000
DTEND;TZID=Europe/Prague:20260502T223000
LOCATION:Kino Přítomnost
END:VEVENT
END:VCALENDAR
BEGIN:VCALENDAR
PRODID:-//eluceo/ical//2.0/EN
VERSION:2.0
CALSCALE:GREGORIAN
BEGIN:VEVENT
UID:c2df60d45208cd7657d781a3b967c647
DTSTAMP:20260425T193019Z
SUMMARY:Ďábel nosí Pradu 2
DTSTART;TZID=Europe/Prague:20260502T203000
DTEND;TZID=Europe/Prague:20260502T223000
LOCATION:Kino Přítomnost
END:VEVENT
END:VCALENDAR
