BEGIN:VCALENDAR
PRODID:-//eluceo/ical//2.0/EN
VERSION:2.0
CALSCALE:GREGORIAN
BEGIN:VEVENT
UID:b3f12909c2fd33cc40de8a421cdc080b
DTSTAMP:20260425T192943Z
SUMMARY:Ďábel nosí Pradu 2
DTSTART;TZID=Europe/Prague:20260503T171500
DTEND;TZID=Europe/Prague:20260503T191500
LOCATION:Kino Přítomnost
END:VEVENT
END:VCALENDAR
BEGIN:VCALENDAR
PRODID:-//eluceo/ical//2.0/EN
VERSION:2.0
CALSCALE:GREGORIAN
BEGIN:VEVENT
UID:46b10a71346c7d028ea769230e1de1d0
DTSTAMP:20260425T192943Z
SUMMARY:Ďábel nosí Pradu 2
DTSTART;TZID=Europe/Prague:20260503T171500
DTEND;TZID=Europe/Prague:20260503T191500
LOCATION:Kino Přítomnost
END:VEVENT
END:VCALENDAR
