BEGIN:VCALENDAR
PRODID:-//eluceo/ical//2.0/EN
VERSION:2.0
CALSCALE:GREGORIAN
BEGIN:VEVENT
UID:c5728bbcb66992ad8fee4d7a4f1d1ef3
DTSTAMP:20260425T193304Z
SUMMARY:Ďábel nosí Pradu 2
DTSTART;TZID=Europe/Prague:20260506T171500
DTEND;TZID=Europe/Prague:20260506T191500
LOCATION:Kino Přítomnost
END:VEVENT
END:VCALENDAR
BEGIN:VCALENDAR
PRODID:-//eluceo/ical//2.0/EN
VERSION:2.0
CALSCALE:GREGORIAN
BEGIN:VEVENT
UID:e37b3d54a2210b9c6ff3ac298ba7fb4a
DTSTAMP:20260425T193304Z
SUMMARY:Ďábel nosí Pradu 2
DTSTART;TZID=Europe/Prague:20260506T171500
DTEND;TZID=Europe/Prague:20260506T191500
LOCATION:Kino Přítomnost
END:VEVENT
END:VCALENDAR
