BEGIN:VCALENDAR
PRODID:-//eluceo/ical//2.0/EN
VERSION:2.0
CALSCALE:GREGORIAN
BEGIN:VEVENT
UID:029e3b18a22965be92471218882e7e93
DTSTAMP:20260425T193153Z
SUMMARY:Co nám zbylo z lásky
DTSTART;TZID=Europe/Prague:20260511T200000
DTEND;TZID=Europe/Prague:20260511T214900
LOCATION:Kino Přítomnost
END:VEVENT
END:VCALENDAR
BEGIN:VCALENDAR
PRODID:-//eluceo/ical//2.0/EN
VERSION:2.0
CALSCALE:GREGORIAN
BEGIN:VEVENT
UID:01d82c23f69a07ef5212cbb977dd8305
DTSTAMP:20260425T193153Z
SUMMARY:Co nám zbylo z lásky
DTSTART;TZID=Europe/Prague:20260511T200000
DTEND;TZID=Europe/Prague:20260511T214900
LOCATION:Kino Přítomnost
END:VEVENT
END:VCALENDAR
