BEGIN:VCALENDAR
PRODID:-//eluceo/ical//2.0/EN
VERSION:2.0
CALSCALE:GREGORIAN
BEGIN:VEVENT
UID:6484ebb792014dc8a1ea4f2ae7a259d7
DTSTAMP:20260426T010719Z
SUMMARY:Princezna Mononoke
DTSTART;TZID=Europe/Prague:20260502T141500
DTEND;TZID=Europe/Prague:20260502T162800
LOCATION:Kino Přítomnost
END:VEVENT
END:VCALENDAR
BEGIN:VCALENDAR
PRODID:-//eluceo/ical//2.0/EN
VERSION:2.0
CALSCALE:GREGORIAN
BEGIN:VEVENT
UID:80b055a5a4cb7af54adea28eb27cf696
DTSTAMP:20260426T010719Z
SUMMARY:Princezna Mononoke
DTSTART;TZID=Europe/Prague:20260502T141500
DTEND;TZID=Europe/Prague:20260502T162800
LOCATION:Kino Přítomnost
END:VEVENT
END:VCALENDAR
