BEGIN:VCALENDAR
PRODID:-//eluceo/ical//2.0/EN
VERSION:2.0
CALSCALE:GREGORIAN
BEGIN:VEVENT
UID:7ea2386830e7eb286888642a72c7a2f0
DTSTAMP:20260425T153053Z
SUMMARY:Slepice
DTSTART;TZID=Europe/Prague:20260503T200000
DTEND;TZID=Europe/Prague:20260503T213600
LOCATION:Univerzitní kino Scala
END:VEVENT
END:VCALENDAR
BEGIN:VCALENDAR
PRODID:-//eluceo/ical//2.0/EN
VERSION:2.0
CALSCALE:GREGORIAN
BEGIN:VEVENT
UID:91180afe42482c4dfd2b6e072d7161a6
DTSTAMP:20260425T153053Z
SUMMARY:Slepice
DTSTART;TZID=Europe/Prague:20260503T200000
DTEND;TZID=Europe/Prague:20260503T213600
LOCATION:Univerzitní kino Scala
END:VEVENT
END:VCALENDAR
