BEGIN:VCALENDAR
PRODID:-//eluceo/ical//2.0/EN
VERSION:2.0
CALSCALE:GREGORIAN
BEGIN:VEVENT
UID:89ab7618775bbd9515035f5599b39438
DTSTAMP:20260425T153053Z
SUMMARY:Slepice
DTSTART;TZID=Europe/Prague:20260430T174500
DTEND;TZID=Europe/Prague:20260430T192100
LOCATION:Univerzitní kino Scala
END:VEVENT
END:VCALENDAR
BEGIN:VCALENDAR
PRODID:-//eluceo/ical//2.0/EN
VERSION:2.0
CALSCALE:GREGORIAN
BEGIN:VEVENT
UID:af18a591e64ed88654cae8a7e135ed5d
DTSTAMP:20260425T153053Z
SUMMARY:Slepice
DTSTART;TZID=Europe/Prague:20260430T174500
DTEND;TZID=Europe/Prague:20260430T192100
LOCATION:Univerzitní kino Scala
END:VEVENT
END:VCALENDAR
