BEGIN:VCALENDAR
PRODID:-//eluceo/ical//2.0/EN
VERSION:2.0
CALSCALE:GREGORIAN
BEGIN:VEVENT
UID:dc50defe7d0d4335c0881bdd00a483fe
DTSTAMP:20260425T153037Z
SUMMARY:Slepice
DTSTART;TZID=Europe/Prague:20260506T174500
DTEND;TZID=Europe/Prague:20260506T192100
LOCATION:Univerzitní kino Scala
END:VEVENT
END:VCALENDAR
BEGIN:VCALENDAR
PRODID:-//eluceo/ical//2.0/EN
VERSION:2.0
CALSCALE:GREGORIAN
BEGIN:VEVENT
UID:9da15161c4869f5d42f3d332323557f4
DTSTAMP:20260425T153037Z
SUMMARY:Slepice
DTSTART;TZID=Europe/Prague:20260506T174500
DTEND;TZID=Europe/Prague:20260506T192100
LOCATION:Univerzitní kino Scala
END:VEVENT
END:VCALENDAR
