BEGIN:VCALENDAR
PRODID:-//eluceo/ical//2.0/EN
VERSION:2.0
CALSCALE:GREGORIAN
BEGIN:VEVENT
UID:d6b66e38db5b1066d9835b0c6bc8b687
DTSTAMP:20260425T153133Z
SUMMARY:Slepice
DTSTART;TZID=Europe/Prague:20260511T174500
DTEND;TZID=Europe/Prague:20260511T192100
LOCATION:Univerzitní kino Scala
END:VEVENT
END:VCALENDAR
BEGIN:VCALENDAR
PRODID:-//eluceo/ical//2.0/EN
VERSION:2.0
CALSCALE:GREGORIAN
BEGIN:VEVENT
UID:11ff56241712082e1731863e7325dd13
DTSTAMP:20260425T153133Z
SUMMARY:Slepice
DTSTART;TZID=Europe/Prague:20260511T174500
DTEND;TZID=Europe/Prague:20260511T192100
LOCATION:Univerzitní kino Scala
END:VEVENT
END:VCALENDAR
