BEGIN:VCALENDAR
PRODID:-//eluceo/ical//2.0/EN
VERSION:2.0
CALSCALE:GREGORIAN
BEGIN:VEVENT
UID:ba28c23c2b7cb63bee13750bb2a50fc8
DTSTAMP:20260425T193347Z
SUMMARY:Ďábel nosí Pradu 2
DTSTART;TZID=Europe/Prague:20260508T171500
DTEND;TZID=Europe/Prague:20260508T191500
LOCATION:Univerzitní kino Scala
END:VEVENT
END:VCALENDAR
BEGIN:VCALENDAR
PRODID:-//eluceo/ical//2.0/EN
VERSION:2.0
CALSCALE:GREGORIAN
BEGIN:VEVENT
UID:4c070ac405482ce5afb65d3d3038b49c
DTSTAMP:20260425T193347Z
SUMMARY:Ďábel nosí Pradu 2
DTSTART;TZID=Europe/Prague:20260508T171500
DTEND;TZID=Europe/Prague:20260508T191500
LOCATION:Univerzitní kino Scala
END:VEVENT
END:VCALENDAR
