BEGIN:VCALENDAR
PRODID:-//eluceo/ical//2.0/EN
VERSION:2.0
CALSCALE:GREGORIAN
BEGIN:VEVENT
UID:d53a43139d91df2255f388467309f1d3
DTSTAMP:20260425T154558Z
SUMMARY:Kill Bill: The Whole Bloody Affair
DTSTART;TZID=Europe/Prague:20260508T190000
DTEND;TZID=Europe/Prague:20260508T233500
LOCATION:Bio Central
END:VEVENT
END:VCALENDAR
BEGIN:VCALENDAR
PRODID:-//eluceo/ical//2.0/EN
VERSION:2.0
CALSCALE:GREGORIAN
BEGIN:VEVENT
UID:dc97e19e79fed080fa649a0a934f602b
DTSTAMP:20260425T154558Z
SUMMARY:Kill Bill: The Whole Bloody Affair
DTSTART;TZID=Europe/Prague:20260508T190000
DTEND;TZID=Europe/Prague:20260508T233500
LOCATION:Bio Central
END:VEVENT
END:VCALENDAR
