BEGIN:VCALENDAR
PRODID:-//eluceo/ical//2.0/EN
VERSION:2.0
CALSCALE:GREGORIAN
BEGIN:VEVENT
UID:ae4ea23b3b5361d4d8ebd126dfe88ed7
DTSTAMP:20260425T153145Z
SUMMARY:Slepice
DTSTART;TZID=Europe/Prague:20260501T124500
DTEND;TZID=Europe/Prague:20260501T142100
LOCATION:Kino Lucerna
END:VEVENT
END:VCALENDAR
BEGIN:VCALENDAR
PRODID:-//eluceo/ical//2.0/EN
VERSION:2.0
CALSCALE:GREGORIAN
BEGIN:VEVENT
UID:d923e40273a22da4e9e61d23cee71c96
DTSTAMP:20260425T153145Z
SUMMARY:Slepice
DTSTART;TZID=Europe/Prague:20260501T124500
DTEND;TZID=Europe/Prague:20260501T142100
LOCATION:Kino Lucerna
END:VEVENT
END:VCALENDAR
