BEGIN:VCALENDAR
PRODID:-//eluceo/ical//2.0/EN
VERSION:2.0
CALSCALE:GREGORIAN
BEGIN:VEVENT
UID:e9b6976d85a9728b4743c7fd77648ab3
DTSTAMP:20260425T153145Z
SUMMARY:Milost
DTSTART;TZID=Europe/Prague:20260501T150000
DTEND;TZID=Europe/Prague:20260501T171100
LOCATION:Kino Lucerna
END:VEVENT
END:VCALENDAR
BEGIN:VCALENDAR
PRODID:-//eluceo/ical//2.0/EN
VERSION:2.0
CALSCALE:GREGORIAN
BEGIN:VEVENT
UID:e02f2c56cb0021257b2f8056bb62a3c1
DTSTAMP:20260425T153145Z
SUMMARY:Milost
DTSTART;TZID=Europe/Prague:20260501T150000
DTEND;TZID=Europe/Prague:20260501T171100
LOCATION:Kino Lucerna
END:VEVENT
END:VCALENDAR
