BEGIN:VCALENDAR
PRODID:-//eluceo/ical//2.0/EN
VERSION:2.0
CALSCALE:GREGORIAN
BEGIN:VEVENT
UID:90eb1a10e5c6c92fcc58dedc0e4d0998
DTSTAMP:20260425T153013Z
SUMMARY:Slepice
DTSTART;TZID=Europe/Prague:20260502T180000
DTEND;TZID=Europe/Prague:20260502T193600
LOCATION:Kino Lucerna
END:VEVENT
END:VCALENDAR
BEGIN:VCALENDAR
PRODID:-//eluceo/ical//2.0/EN
VERSION:2.0
CALSCALE:GREGORIAN
BEGIN:VEVENT
UID:c4b34f6333122594014bd581263bf285
DTSTAMP:20260425T153013Z
SUMMARY:Slepice
DTSTART;TZID=Europe/Prague:20260502T180000
DTEND;TZID=Europe/Prague:20260502T193600
LOCATION:Kino Lucerna
END:VEVENT
END:VCALENDAR
