BEGIN:VCALENDAR
PRODID:-//eluceo/ical//2.0/EN
VERSION:2.0
CALSCALE:GREGORIAN
BEGIN:VEVENT
UID:29bd6426d656f7d820516b72628b20ee
DTSTAMP:20260425T152915Z
SUMMARY:Slepice
DTSTART;TZID=Europe/Prague:20260505T153000
DTEND;TZID=Europe/Prague:20260505T170600
LOCATION:Kino Lucerna
END:VEVENT
END:VCALENDAR
BEGIN:VCALENDAR
PRODID:-//eluceo/ical//2.0/EN
VERSION:2.0
CALSCALE:GREGORIAN
BEGIN:VEVENT
UID:849ca67de8e8272c47835d3d35cdddd7
DTSTAMP:20260425T152915Z
SUMMARY:Slepice
DTSTART;TZID=Europe/Prague:20260505T153000
DTEND;TZID=Europe/Prague:20260505T170600
LOCATION:Kino Lucerna
END:VEVENT
END:VCALENDAR
