BEGIN:VCALENDAR
PRODID:-//eluceo/ical//2.0/EN
VERSION:2.0
CALSCALE:GREGORIAN
BEGIN:VEVENT
UID:b704ac809d4a9743caf1809dc14349b9
DTSTAMP:20260425T193458Z
SUMMARY:Ďábel nosí Pradu 2
DTSTART;TZID=Europe/Prague:20260501T153000
DTEND;TZID=Europe/Prague:20260501T173000
LOCATION:Kino Lucerna
END:VEVENT
END:VCALENDAR
BEGIN:VCALENDAR
PRODID:-//eluceo/ical//2.0/EN
VERSION:2.0
CALSCALE:GREGORIAN
BEGIN:VEVENT
UID:a2618e96eeb0cc78b184b507b2145853
DTSTAMP:20260425T193458Z
SUMMARY:Ďábel nosí Pradu 2
DTSTART;TZID=Europe/Prague:20260501T153000
DTEND;TZID=Europe/Prague:20260501T173000
LOCATION:Kino Lucerna
END:VEVENT
END:VCALENDAR
