BEGIN:VCALENDAR
PRODID:-//eluceo/ical//2.0/EN
VERSION:2.0
CALSCALE:GREGORIAN
BEGIN:VEVENT
UID:cd98f2e7b5c050e61bf0d058d7084afe
DTSTAMP:20260425T193342Z
SUMMARY:Ďábel nosí Pradu 2
DTSTART;TZID=Europe/Prague:20260502T123000
DTEND;TZID=Europe/Prague:20260502T143000
LOCATION:Kino Lucerna
END:VEVENT
END:VCALENDAR
BEGIN:VCALENDAR
PRODID:-//eluceo/ical//2.0/EN
VERSION:2.0
CALSCALE:GREGORIAN
BEGIN:VEVENT
UID:8205328e49548c45a0d86c6e97719025
DTSTAMP:20260425T193342Z
SUMMARY:Ďábel nosí Pradu 2
DTSTART;TZID=Europe/Prague:20260502T123000
DTEND;TZID=Europe/Prague:20260502T143000
LOCATION:Kino Lucerna
END:VEVENT
END:VCALENDAR
