BEGIN:VCALENDAR
PRODID:-//eluceo/ical//2.0/EN
VERSION:2.0
CALSCALE:GREGORIAN
BEGIN:VEVENT
UID:3ce5f55d33dc420627ae28990bb8fdbf
DTSTAMP:20260423T172154Z
SUMMARY:Neděle
DTSTART;TZID=Europe/Prague:20260430T180000
DTEND;TZID=Europe/Prague:20260430T195500
LOCATION:Bio Central
END:VEVENT
END:VCALENDAR
BEGIN:VCALENDAR
PRODID:-//eluceo/ical//2.0/EN
VERSION:2.0
CALSCALE:GREGORIAN
BEGIN:VEVENT
UID:335e922a4f073af510c434b578f65939
DTSTAMP:20260423T172154Z
SUMMARY:Neděle
DTSTART;TZID=Europe/Prague:20260430T180000
DTEND;TZID=Europe/Prague:20260430T195500
LOCATION:Bio Central
END:VEVENT
END:VCALENDAR
