BEGIN:VCALENDAR
PRODID:-//eluceo/ical//2.0/EN
VERSION:2.0
CALSCALE:GREGORIAN
BEGIN:VEVENT
UID:75184fb1f1a3f449fcd090b823b19311
DTSTAMP:20260423T192529Z
SUMMARY:Pan Nikdo proti Putinovi
DTSTART;TZID=Europe/Prague:20260503T203000
DTEND;TZID=Europe/Prague:20260503T220000
LOCATION:Bio Central
END:VEVENT
END:VCALENDAR
BEGIN:VCALENDAR
PRODID:-//eluceo/ical//2.0/EN
VERSION:2.0
CALSCALE:GREGORIAN
BEGIN:VEVENT
UID:a8a68decc83f3fff2b69865aab5607fb
DTSTAMP:20260423T192529Z
SUMMARY:Pan Nikdo proti Putinovi
DTSTART;TZID=Europe/Prague:20260503T203000
DTEND;TZID=Europe/Prague:20260503T220000
LOCATION:Bio Central
END:VEVENT
END:VCALENDAR
