BEGIN:VCALENDAR
PRODID:-//eluceo/ical//2.0/EN
VERSION:2.0
CALSCALE:GREGORIAN
BEGIN:VEVENT
UID:a7cb0aa7f65d44f789417744df38cfd0
DTSTAMP:20260425T152544Z
SUMMARY:Slepice
DTSTART;TZID=Europe/Prague:20260506T173000
DTEND;TZID=Europe/Prague:20260506T190600
LOCATION:Bio Central
END:VEVENT
END:VCALENDAR
BEGIN:VCALENDAR
PRODID:-//eluceo/ical//2.0/EN
VERSION:2.0
CALSCALE:GREGORIAN
BEGIN:VEVENT
UID:2568c9cf4871b4daa95bc1ca91e571b1
DTSTAMP:20260425T152544Z
SUMMARY:Slepice
DTSTART;TZID=Europe/Prague:20260506T173000
DTEND;TZID=Europe/Prague:20260506T190600
LOCATION:Bio Central
END:VEVENT
END:VCALENDAR
