BEGIN:VCALENDAR
PRODID:-//eluceo/ical//2.0/EN
VERSION:2.0
CALSCALE:GREGORIAN
BEGIN:VEVENT
UID:d8749107506cbae5c6e447c59d2233b3
DTSTAMP:20260425T193342Z
SUMMARY:Ďábel nosí Pradu 2
DTSTART;TZID=Europe/Prague:20260502T180000
DTEND;TZID=Europe/Prague:20260502T200000
LOCATION:Bio Central
END:VEVENT
END:VCALENDAR
BEGIN:VCALENDAR
PRODID:-//eluceo/ical//2.0/EN
VERSION:2.0
CALSCALE:GREGORIAN
BEGIN:VEVENT
UID:7c3ce9d4af6400dbabfde1f32e39a90c
DTSTAMP:20260425T193342Z
SUMMARY:Ďábel nosí Pradu 2
DTSTART;TZID=Europe/Prague:20260502T180000
DTEND;TZID=Europe/Prague:20260502T200000
LOCATION:Bio Central
END:VEVENT
END:VCALENDAR
