BEGIN:VCALENDAR
PRODID:-//eluceo/ical//2.0/EN
VERSION:2.0
CALSCALE:GREGORIAN
BEGIN:VEVENT
UID:68cc2504d20ccc0a09b3c5c1c1b547af
DTSTAMP:20260425T193031Z
SUMMARY:Ďábel nosí Pradu 2
DTSTART;TZID=Europe/Prague:20260501T203000
DTEND;TZID=Europe/Prague:20260501T223000
LOCATION:Bio Central
END:VEVENT
END:VCALENDAR
BEGIN:VCALENDAR
PRODID:-//eluceo/ical//2.0/EN
VERSION:2.0
CALSCALE:GREGORIAN
BEGIN:VEVENT
UID:b5a698723c92101b5b4ab2c7d9e5480a
DTSTAMP:20260425T193031Z
SUMMARY:Ďábel nosí Pradu 2
DTSTART;TZID=Europe/Prague:20260501T203000
DTEND;TZID=Europe/Prague:20260501T223000
LOCATION:Bio Central
END:VEVENT
END:VCALENDAR
