BEGIN:VCALENDAR
PRODID:-//eluceo/ical//2.0/EN
VERSION:2.0
CALSCALE:GREGORIAN
BEGIN:VEVENT
UID:17c1201213b8916b3965788ee6fbbd1a
DTSTAMP:20260425T193229Z
SUMMARY:Ďábel nosí Pradu 2
DTSTART;TZID=Europe/Prague:20260503T173000
DTEND;TZID=Europe/Prague:20260503T193000
LOCATION:Bio Central
END:VEVENT
END:VCALENDAR
BEGIN:VCALENDAR
PRODID:-//eluceo/ical//2.0/EN
VERSION:2.0
CALSCALE:GREGORIAN
BEGIN:VEVENT
UID:b0a32ddf8c1c9645e3809c7b6589f777
DTSTAMP:20260425T193229Z
SUMMARY:Ďábel nosí Pradu 2
DTSTART;TZID=Europe/Prague:20260503T173000
DTEND;TZID=Europe/Prague:20260503T193000
LOCATION:Bio Central
END:VEVENT
END:VCALENDAR
