BEGIN:VCALENDAR
PRODID:-//eluceo/ical//2.0/EN
VERSION:2.0
CALSCALE:GREGORIAN
BEGIN:VEVENT
UID:b137892b5982bc25eeb2060a235ff484
DTSTAMP:20260425T193230Z
SUMMARY:Ďábel nosí Pradu 2
DTSTART;TZID=Europe/Prague:20260506T180000
DTEND;TZID=Europe/Prague:20260506T200000
LOCATION:Bio Central
END:VEVENT
END:VCALENDAR
BEGIN:VCALENDAR
PRODID:-//eluceo/ical//2.0/EN
VERSION:2.0
CALSCALE:GREGORIAN
BEGIN:VEVENT
UID:3065e7e4405e67ddc83aa2b9c05e297e
DTSTAMP:20260425T193230Z
SUMMARY:Ďábel nosí Pradu 2
DTSTART;TZID=Europe/Prague:20260506T180000
DTEND;TZID=Europe/Prague:20260506T200000
LOCATION:Bio Central
END:VEVENT
END:VCALENDAR
