BEGIN:VCALENDAR
PRODID:-//eluceo/ical//2.0/EN
VERSION:2.0
CALSCALE:GREGORIAN
BEGIN:VEVENT
UID:9a89815738e8bd82495a0190f18acd7d
DTSTAMP:20260425T193458Z
SUMMARY:Ďábel nosí Pradu 2
DTSTART;TZID=Europe/Prague:20260503T121500
DTEND;TZID=Europe/Prague:20260503T141500
LOCATION:Bio Oko
END:VEVENT
END:VCALENDAR
BEGIN:VCALENDAR
PRODID:-//eluceo/ical//2.0/EN
VERSION:2.0
CALSCALE:GREGORIAN
BEGIN:VEVENT
UID:ec0da76acbb4f1d3f2036afc967e0721
DTSTAMP:20260425T193458Z
SUMMARY:Ďábel nosí Pradu 2
DTSTART;TZID=Europe/Prague:20260503T121500
DTEND;TZID=Europe/Prague:20260503T141500
LOCATION:Bio Oko
END:VEVENT
END:VCALENDAR
