BEGIN:VCALENDAR
PRODID:-//eluceo/ical//2.0/EN
VERSION:2.0
CALSCALE:GREGORIAN
BEGIN:VEVENT
UID:5d488525dbe747d73c2282fc7587dd1a
DTSTAMP:20260426T005926Z
SUMMARY:Na skok do divočiny
DTSTART;TZID=Europe/Prague:20260503T144500
DTEND;TZID=Europe/Prague:20260503T163000
LOCATION:Bio Oko
END:VEVENT
END:VCALENDAR
BEGIN:VCALENDAR
PRODID:-//eluceo/ical//2.0/EN
VERSION:2.0
CALSCALE:GREGORIAN
BEGIN:VEVENT
UID:047b15277f58c99434ff449b55d65b76
DTSTAMP:20260426T005926Z
SUMMARY:Na skok do divočiny
DTSTART;TZID=Europe/Prague:20260503T144500
DTEND;TZID=Europe/Prague:20260503T163000
LOCATION:Bio Oko
END:VEVENT
END:VCALENDAR
