BEGIN:VCALENDAR
PRODID:-//eluceo/ical//2.0/EN
VERSION:2.0
CALSCALE:GREGORIAN
BEGIN:VEVENT
UID:0e7c4b745f23c6bacf7668a28fc7ebbe
DTSTAMP:20260425T153037Z
SUMMARY:Slepice
DTSTART;TZID=Europe/Prague:20260504T180000
DTEND;TZID=Europe/Prague:20260504T193600
LOCATION:Bio Oko
END:VEVENT
END:VCALENDAR
BEGIN:VCALENDAR
PRODID:-//eluceo/ical//2.0/EN
VERSION:2.0
CALSCALE:GREGORIAN
BEGIN:VEVENT
UID:9d4fae8e6152876f7e259b4e12183ecf
DTSTAMP:20260425T153037Z
SUMMARY:Slepice
DTSTART;TZID=Europe/Prague:20260504T180000
DTEND;TZID=Europe/Prague:20260504T193600
LOCATION:Bio Oko
END:VEVENT
END:VCALENDAR
