BEGIN:VCALENDAR
PRODID:-//eluceo/ical//2.0/EN
VERSION:2.0
CALSCALE:GREGORIAN
BEGIN:VEVENT
UID:b6c66a2e6d55077ad42511c353cd3108
DTSTAMP:20260425T152915Z
SUMMARY:Slepice
DTSTART;TZID=Europe/Prague:20260430T153000
DTEND;TZID=Europe/Prague:20260430T170600
LOCATION:Kino Světozor
END:VEVENT
END:VCALENDAR
BEGIN:VCALENDAR
PRODID:-//eluceo/ical//2.0/EN
VERSION:2.0
CALSCALE:GREGORIAN
BEGIN:VEVENT
UID:5fd20457f415d19b3e72509c120ce352
DTSTAMP:20260425T152915Z
SUMMARY:Slepice
DTSTART;TZID=Europe/Prague:20260430T153000
DTEND;TZID=Europe/Prague:20260430T170600
LOCATION:Kino Světozor
END:VEVENT
END:VCALENDAR
