BEGIN:VCALENDAR
PRODID:-//eluceo/ical//2.0/EN
VERSION:2.0
CALSCALE:GREGORIAN
BEGIN:VEVENT
UID:ac11ec0bb2e4df56551cd2f28b5100e1
DTSTAMP:20260425T152721Z
SUMMARY:Slepice
DTSTART;TZID=Europe/Prague:20260503T151500
DTEND;TZID=Europe/Prague:20260503T165100
LOCATION:Kino Světozor
END:VEVENT
END:VCALENDAR
BEGIN:VCALENDAR
PRODID:-//eluceo/ical//2.0/EN
VERSION:2.0
CALSCALE:GREGORIAN
BEGIN:VEVENT
UID:a03f5b152195715a3d49c76d6fc2ce98
DTSTAMP:20260425T152721Z
SUMMARY:Slepice
DTSTART;TZID=Europe/Prague:20260503T151500
DTEND;TZID=Europe/Prague:20260503T165100
LOCATION:Kino Světozor
END:VEVENT
END:VCALENDAR
