BEGIN:VCALENDAR
PRODID:-//eluceo/ical//2.0/EN
VERSION:2.0
CALSCALE:GREGORIAN
BEGIN:VEVENT
UID:162cd8053b37e740d508ccc78a735917
DTSTAMP:20260425T152705Z
SUMMARY:Slepice
DTSTART;TZID=Europe/Prague:20260504T153000
DTEND;TZID=Europe/Prague:20260504T170600
LOCATION:Kino Světozor
END:VEVENT
END:VCALENDAR
BEGIN:VCALENDAR
PRODID:-//eluceo/ical//2.0/EN
VERSION:2.0
CALSCALE:GREGORIAN
BEGIN:VEVENT
UID:99facee60a887ada3f5d3a89e60853e8
DTSTAMP:20260425T152705Z
SUMMARY:Slepice
DTSTART;TZID=Europe/Prague:20260504T153000
DTEND;TZID=Europe/Prague:20260504T170600
LOCATION:Kino Světozor
END:VEVENT
END:VCALENDAR
